BEGIN:VCALENDAR
VERSION:2.0
PRODID:-//Faires Ludwigshafen - ECPv6.15.20//NONSGML v1.0//EN
CALSCALE:GREGORIAN
METHOD:PUBLISH
X-WR-CALNAME:Faires Ludwigshafen
X-ORIGINAL-URL:https://www.faires-lu.de
X-WR-CALDESC:Veranstaltungen für Faires Ludwigshafen
REFRESH-INTERVAL;VALUE=DURATION:PT1H
X-Robots-Tag:noindex
X-PUBLISHED-TTL:PT1H
BEGIN:VTIMEZONE
TZID:Europe/Berlin
BEGIN:DAYLIGHT
TZOFFSETFROM:+0100
TZOFFSETTO:+0200
TZNAME:CEST
DTSTART:20250330T010000
END:DAYLIGHT
BEGIN:STANDARD
TZOFFSETFROM:+0200
TZOFFSETTO:+0100
TZNAME:CET
DTSTART:20251026T010000
END:STANDARD
BEGIN:DAYLIGHT
TZOFFSETFROM:+0100
TZOFFSETTO:+0200
TZNAME:CEST
DTSTART:20260329T010000
END:DAYLIGHT
BEGIN:STANDARD
TZOFFSETFROM:+0200
TZOFFSETTO:+0100
TZNAME:CET
DTSTART:20261025T010000
END:STANDARD
BEGIN:DAYLIGHT
TZOFFSETFROM:+0100
TZOFFSETTO:+0200
TZNAME:CEST
DTSTART:20270328T010000
END:DAYLIGHT
BEGIN:STANDARD
TZOFFSETFROM:+0200
TZOFFSETTO:+0100
TZNAME:CET
DTSTART:20271031T010000
END:STANDARD
END:VTIMEZONE
BEGIN:VEVENT
DTSTART;TZID=Europe/Berlin:20260420T160000
DTEND;TZID=Europe/Berlin:20260420T181500
DTSTAMP:20260420T020014
CREATED:20260122T172227Z
LAST-MODIFIED:20260409T081248Z
UID:4650-1776700800-1776708900@www.faires-lu.de
SUMMARY:Neues Leben für alte Bücher: Upcycling-Workshop
DESCRIPTION:Neues Leben für alte Bücher: Upcycling-Workshop mit SALuMa e.V. \nKaputte Bücher landen nicht einfach im Müll\, sondern werden durch die Faltkunst „Orimoto“ zu kleinen Kunstwerken z.B. zu schönen Ohrringen.
URL:https://www.faires-lu.de/event/fashion-revolution-week-in-der-rheingalerie-5/
LOCATION:Rhein-Galerie\, Im Zollhof 4\, Ludwigshafen\, 67061
CATEGORIES:12 Nachhaltige/r Konsum und Produktion
ATTACH;FMTTYPE=image/jpeg:https://www.faires-lu.de/wp-content/uploads/2026/01/Schick-aber-Fair-gemeinsame-Sharepics-Workshops.jpg
END:VEVENT
END:VCALENDAR