BEGIN:VCALENDAR
VERSION:2.0
PRODID:-//Faires Ludwigshafen - ECPv6.15.20//NONSGML v1.0//EN
CALSCALE:GREGORIAN
METHOD:PUBLISH
X-WR-CALNAME:Faires Ludwigshafen
X-ORIGINAL-URL:https://www.faires-lu.de
X-WR-CALDESC:Veranstaltungen für Faires Ludwigshafen
REFRESH-INTERVAL;VALUE=DURATION:PT1H
X-Robots-Tag:noindex
X-PUBLISHED-TTL:PT1H
BEGIN:VTIMEZONE
TZID:Europe/Berlin
BEGIN:DAYLIGHT
TZOFFSETFROM:+0100
TZOFFSETTO:+0200
TZNAME:CEST
DTSTART:20250330T010000
END:DAYLIGHT
BEGIN:STANDARD
TZOFFSETFROM:+0200
TZOFFSETTO:+0100
TZNAME:CET
DTSTART:20251026T010000
END:STANDARD
BEGIN:DAYLIGHT
TZOFFSETFROM:+0100
TZOFFSETTO:+0200
TZNAME:CEST
DTSTART:20260329T010000
END:DAYLIGHT
BEGIN:STANDARD
TZOFFSETFROM:+0200
TZOFFSETTO:+0100
TZNAME:CET
DTSTART:20261025T010000
END:STANDARD
BEGIN:DAYLIGHT
TZOFFSETFROM:+0100
TZOFFSETTO:+0200
TZNAME:CEST
DTSTART:20270328T010000
END:DAYLIGHT
BEGIN:STANDARD
TZOFFSETFROM:+0200
TZOFFSETTO:+0100
TZNAME:CET
DTSTART:20271031T010000
END:STANDARD
END:VTIMEZONE
BEGIN:VEVENT
DTSTART;TZID=Europe/Berlin:20260423T120000
DTEND;TZID=Europe/Berlin:20260423T123000
DTSTAMP:20260423T021740
CREATED:20260409T082206Z
LAST-MODIFIED:20260409T082530Z
UID:4685-1776945600-1776947400@www.faires-lu.de
SUMMARY:Lesung für Kinder und Eltern zum Welttag des Buches
DESCRIPTION:Do. 23.04.26\, 12.00 bis 12.30 Uhr und 15.00 bis 15.30 Uhr  \nLesung für Kinder und Eltern zum Welttag des Buches
URL:https://www.faires-lu.de/event/lesung-fuer-kinder-und-eltern-zum-welttag-des-buches/
LOCATION:Rhein-Galerie\, Im Zollhof 4\, Ludwigshafen\, 67061
CATEGORIES:12 Nachhaltige/r Konsum und Produktion
ATTACH;FMTTYPE=image/jpeg:https://www.faires-lu.de/wp-content/uploads/2026/01/Schick-aber-Fair-Rheingalerie.jpg
END:VEVENT
BEGIN:VEVENT
DTSTART;TZID=Europe/Berlin:20260423T120000
DTEND;TZID=Europe/Berlin:20260423T170000
DTSTAMP:20260423T021740
CREATED:20260409T080249Z
LAST-MODIFIED:20260409T081454Z
UID:4676-1776945600-1776963600@www.faires-lu.de
SUMMARY:Faires-LU: Die Initiative Ludwigshafen Fairtrade-Stadt stellt sich vor
DESCRIPTION:Faires-LU: Die Initiative Ludwigshafen Fairtrade-Stadt stellt sich vor\, schenkt fairen Kaffee aus und verkauft faire „Ludwigshafener Schokoladenseiten“.
URL:https://www.faires-lu.de/event/4676/
LOCATION:Rhein-Galerie\, Im Zollhof 4\, Ludwigshafen\, 67061
CATEGORIES:12 Nachhaltige/r Konsum und Produktion
ATTACH;FMTTYPE=image/jpeg:https://www.faires-lu.de/wp-content/uploads/2026/04/Schick-aber-Fair-Faires-Lu.jpg
END:VEVENT
BEGIN:VEVENT
DTSTART;TZID=Europe/Berlin:20260423T133000
DTEND;TZID=Europe/Berlin:20260423T154500
DTSTAMP:20260423T021740
CREATED:20260122T172026Z
LAST-MODIFIED:20260409T082421Z
UID:4648-1776951000-1776959100@www.faires-lu.de
SUMMARY:Jeans-Upcycling-Workshop
DESCRIPTION:Jeans-Upcycling-Workshop mit Susanne Strauß. \nWir nähen aus alten Jeans schöne Handytäschchen und Glücksbringer usw. Gerne ausrangierte Jeans\, Knöpfe\, Stoffreste etc. selbst mitbringen!
URL:https://www.faires-lu.de/event/fashion-revolution-week-in-der-rheingalerie-4/
LOCATION:Rhein-Galerie\, Im Zollhof 4\, Ludwigshafen\, 67061
CATEGORIES:12 Nachhaltige/r Konsum und Produktion
ATTACH;FMTTYPE=image/jpeg:https://www.faires-lu.de/wp-content/uploads/2026/01/Schick-aber-Fair-gemeinsame-Sharepics-Workshops.jpg
END:VEVENT
BEGIN:VEVENT
DTSTART;TZID=Europe/Berlin:20260423T150000
DTEND;TZID=Europe/Berlin:20260423T153000
DTSTAMP:20260423T021740
CREATED:20260409T082319Z
LAST-MODIFIED:20260409T082500Z
UID:4687-1776956400-1776958200@www.faires-lu.de
SUMMARY:Lesung für Kinder und Eltern zum Welttag des Buches
DESCRIPTION:Do. 23.04.26\, 12.00 bis 12.30 Uhr und 15.00 bis 15.30 Uhr  \nLesung für Kinder und Eltern zum Welttag des Buches
URL:https://www.faires-lu.de/event/lesung-fuer-kinder-und-eltern-zum-welttag-des-buches-2/
LOCATION:Rhein-Galerie\, Im Zollhof 4\, Ludwigshafen\, 67061
CATEGORIES:12 Nachhaltige/r Konsum und Produktion
ATTACH;FMTTYPE=image/jpeg:https://www.faires-lu.de/wp-content/uploads/2026/01/Schick-aber-Fair-Rheingalerie.jpg
END:VEVENT
BEGIN:VEVENT
DTSTART;TZID=Europe/Berlin:20260423T163000
DTEND;TZID=Europe/Berlin:20260423T180000
DTSTAMP:20260423T021740
CREATED:20260409T080037Z
LAST-MODIFIED:20260409T081555Z
UID:4674-1776961800-1776967200@www.faires-lu.de
SUMMARY:Jeans-Upcycling-Workshop
DESCRIPTION:Jeans-Upcycling-Workshop mit Susanne Strauß \nWir nähen aus alten Jeans schöne Handytäschchen und Glücksbringer usw. Gerne ausrangierte Jeans\, Knöpfe\, Stoffreste etc. selbst mitbringen!
URL:https://www.faires-lu.de/event/jeans-upcycling-workshop/
LOCATION:Rhein-Galerie\, Im Zollhof 4\, Ludwigshafen\, 67061
CATEGORIES:12 Nachhaltige/r Konsum und Produktion
ATTACH;FMTTYPE=image/jpeg:https://www.faires-lu.de/wp-content/uploads/2026/01/Schick-aber-Fair-gemeinsame-Sharepics-Workshops.jpg
END:VEVENT
END:VCALENDAR